BEGIN:VCALENDAR
VERSION:2.0
X-WR-TIMEZONE:Europe/Paris
CALSCALE:GREGORIAN
PRODID:-//SPIP/Plugin Agenda//NONSGML v1.0//FR
X-WR-CALNAME;VALUE=TEXT:Sundep-Solidaires Paris SUD Enseignement privé -- Agenda
X-WR-CALDESC:Site du Sundep-Solidaires Paris SUD Enseignement privé
X-WR-RELCALID:https://www.sundep-paris.org
BEGIN:VEVENT
SUMMARY:Rencontres de l'alliance écologique et sociale : 27 et 28 novembre
UID:evenement68 @ https://www.sundep-paris.org
DTSTAMP:20260421T220000Z
DTSTART;VALUE=DATE:20251127
DTEND;VALUE=DATE:20251129
CREATED:20260421T220000Z
LAST-MODIFIED:20260421T220000Z 
LOCATION:Locaux de la FSU
CATEGORIES:Rencontres de l'alliance écologique et sociale : 27 et 28 novembre
URL:https://www.sundep-paris.org/Rencontres-de-l-alliance-e%CC%81cologique-et-sociale-27-et-28?id_evenement=68
SEQUENCE:1

STATUS:CONFIRMED
END:VEVENT
END:VCALENDAR