BEGIN:VCALENDAR
VERSION:2.0
X-WR-TIMEZONE:Europe/Paris
CALSCALE:GREGORIAN
PRODID:-//SPIP/Plugin Agenda//NONSGML v1.0//FR
X-WR-CALNAME;VALUE=TEXT:Sundep-Solidaires Paris SUD Enseignement privé -- Agenda
X-WR-CALDESC:Site du Sundep-Solidaires Paris SUD Enseignement privé
X-WR-RELCALID:https://www.sundep-paris.org
BEGIN:VEVENT
SUMMARY:Le 6 septembre : Manifestons pour un cessez-le-feu immédiat et une paix juste et durable en Palestine
UID:evenement47 @ https://www.sundep-paris.org
DTSTAMP:20260420T220000Z
DTSTART:20250906T120000Z
DTEND:20250906T160000Z
CREATED:20260420T220000Z
LAST-MODIFIED:20260420T220000Z 
LOCATION:Paris
CATEGORIES:Le 6 septembre : manifestons pour un cessez-le-feu immédiat et une paix juste et durable en Palestine
URL:https://www.sundep-paris.org/Le-6-septembre-manifestons-pour-un-cessez-le-feu-immediat?id_evenement=47
SEQUENCE:1

STATUS:CONFIRMED
END:VEVENT
END:VCALENDAR